BEGIN:VCALENDAR
VERSION:2.0
PRODID:-//eventon.com NONSGML v1.0//EN
CALSCALE:GREGORIAN
METHOD:PUBLISH
BEGIN:VEVENT
UID:69e4ce167ec7d
DTSTAMP:20260419T124406Z
DTSTART:20250329T090000Z
DTEND:20250329T103000Z
LOCATION:
SUMMARY:Fußballtraining Gathe B 10:00-11:30
DESCRIPTION:Gathe 2\nhttps://hsw-wuppertal.de/events/fussballtraining-gathe
 -b-1000-1130/var/ri-1.l-L1
URL:https://hsw-wuppertal.de/events/fussballtraining-gathe-b-1000-1130/var/ri-1.l-L1
END:VEVENT
END:VCALENDAR